Workbook

Sheet PROPUESTA TECNICA
B1: COMISIÓN ESTATAL DE SERVICIOS PÚBLICOS DE MEXICALI
A2: SUBDIRECCION ADMINISTRATIVA
A3: OFICINA DE LICITACIONES Y CONTRATOS
B4: "SERVICIO DE TOMA DE LECTURA Y ENTREGA DE FACTURAS PARA LA COMISIÓN ESTATAL DE SERVICIOS PÚBLICOS DE MEXICALI"
B5: REQUERIMIENTOS PARA LOS MESES DE MARZO A DICIEMBRE DE 2020
B7: CONCEPTO 1: TOMA DE LECTURA Y ENTREGA DE FACTURA EN ZONA I, II, III, IV, V, VI Y VII
B8: CONCEPTO | C8: DESCRIPCION | D8: UNIDAD DE MEDIDA | E8: CANTIDAD
B9: 1.1 | C9: EN SITIO: TOMA DE LECTURA Y ENTREGA DE FACTURA | D9: CUENTA | E9: 3014849 | G9: =+E9/110 -> 27407.718
B12: CONCEPTO 2: TOMA DE LECTURA Y ENTREGA DE FACTURA EN ZONAS VIII y IX
B13: CONCEPTO | C13: DESCRIPCION | D13: UNIDAD DE MEDIDA | E13: CANTIDAD
B14: 2.1 | C14: EN SITIO: TOMA DE LECTURA Y ENTREGA DE FACTURA | D14: CUENTA | E14: 343070 | G14: =+E14/110 -> 3118.8182
B18: CONCEPTO 3: TOMA DE LECTURA Y ENTREGA DE FACTURA EN ZONA X
B19: CONCEPTO | C19: DESCRIPCION | D19: UNIDAD DE MEDIDA | E19: CANTIDAD
B20: 3.1 | C20: EN SITIO: TOMA DE LECTURA Y ENTREGA DE FACTURA | D20: CUENTA | E20: 83145 | G20: =+E20/110 -> 755.86364
E23: CO0NCEPTOS | G23: =SUM(G9:G22) -> 31282.4
E24: 1
E25: 2
E26: 3

Sheet PROYECCION
A1: COMISIÓN ESTATAL DE SERVICIOS PÚBLICOS DE MEXICALI
A2: "SERVICIO DE TOMA DE LECTURA Y ENTREGA DE FACTURAS PARA LA COMISIÓN ESTATAL DE SERVICIOS PÚBLICOS DE MEXICALI"
A3: REQUERIMIENTOS PARA LOS MESES DE MARZO A DICIEMBRE DE 2020
B4: CONCEPTO 1: TOMA DE LECTURA Y ENTREGA DE FACTURA EN ZONA I, II, III, IV, V, VI Y VII
B5: ZONA 1 | C5: MAR | D5: ABR | E5: MAY | F5: JUN | G5: JUL | H5: AGO | I5: SEP | J5: OCT | K5: NOV | L5: DIC | M5: TOTAL
B6: En Sitio: Toma de Lectura y Entrga de Factura | C6: 22931 | D6: 22957 | E6: 22957 | F6: 22982 | G6: =+ROUND(22982.4044496614,0) -> 22982 | H6: 23008 | I6: 23008 | J6: 23034 | K6: 23034 | L6: 23060 | M6: =SUM(C6:L6) -> 229953 | N6: =+M6/10 -> 22995.3 | O6: =+N6/16 -> 1437.2062 | P6: 7
O7: =+N7/16 -> 0
B8: ZONA 2 | C8: MAR | D8: ABR | E8: MAY | F8: JUN | G8: JUL | H8: AGO | I8: SEP | J8: OCT | K8: NOV | L8: DIC | M8: TOTAL | O8: =+N8/16 -> 0
B9: En Sitio: Toma de Lectura y Entrga de Factura | C9: 40432 | D9: 40444 | E9: 40444 | F9: 40456 | G9: 40456 | H9: 40468 | I9: 40468 | J9: 40480 | K9: 40480 | L9: 40492 | M9: =SUM(C9:L9) -> 404620 | N9: =+M9/10 -> 40462 | O9: =+N9/16 -> 2528.875 | P9: =+O9/230 -> 10.995109 | Q9: 11
O10: =+N10/16 -> 0
B11: ZONA 3 | C11: MAR | D11: ABR | E11: MAY | F11: JUN | G11: JUL | H11: AGO | I11: SEP | J11: OCT | K11: NOV | L11: DIC | M11: TOTAL | O11: =+N11/16 -> 0
B12: En Sitio: Toma de Lectura y Entrga de Factura | C12: 30700 | D12: 30743 | E12: 30787 | F12: 30831 | G12: 30874 | H12: 30918 | I12: 30962 | J12: 31006 | K12: 31050 | L12: 31094 | M12: =SUM(C12:L12) -> 308965 | N12: =+M12/10 -> 30896.5 | O12: =+N12/16 -> 1931.0312 | P12: 9 | Q12: 8
O13: =+N13/16 -> 0
O14: =+N14/16 -> 0
B15: ZONA 4 | C15: MAR | D15: ABR | E15: MAY | F15: JUN | G15: JUL | H15: AGO | I15: SEP | J15: OCT | K15: NOV | L15: DIC | M15: TOTAL | O15: =+N15/16 -> 0
B16: En Sitio: Toma de Lectura y Entrga de Factura | C16: 40174 | D16: 40179 | E16: 40183 | F16: 40188 | G16: 40193 | H16: 40197 | I16: 40202 | J16: 40206 | K16: 40211 | L16: 40216 | M16: =SUM(C16:L16) -> 401949 | N16: =+M16/10 -> 40194.9 | O16: =+N16/16 -> 2512.1813 | P16: 10 | Q16: 11
O17: =+N17/16 -> 0
B18: ZONA 5 | C18: MAR | D18: ABR | E18: MAY | F18: JUN | G18: JUL | H18: AGO | I18: SEP | J18: OCT | K18: NOV | L18: DIC | M18: TOTAL | O18: =+N18/16 -> 0
B19: En Sitio: Toma de Lectura y Entrga de Factura | C19: 41179 | D19: 41290 | E19: 41400 | F19: 41511 | G19: 41622 | H19: 41733 | I19: 41845 | J19: 41957 | K19: 42069 | L19: 42182 | M19: =SUM(C19:L19) -> 416788 | N19: =+M19/10 -> 41678.8 | O19: =+N19/16 -> 2604.925 | P19: 10 | Q19: 11
O20: =+N20/16 -> 0
B21: ZONA 6 | C21: MAR | D21: ABR | E21: MAY | F21: JUN | G21: JUL | H21: AGO | I21: SEP | J21: OCT | K21: NOV | L21: DIC | M21: TOTAL | O21: =+N21/16 -> 0
B22: En Sitio: Toma de Lectura y Entrga de Factura | C22: 62568 | D22: 62771 | E22: 62975 | F22: 63180 | G22: 63385 | H22: 63591 | I22: 63798 | J22: 64005 | K22: 64213 | L22: 64421 | M22: =SUM(C22:L22) -> 634907 | N22: =+M22/10 -> 63490.7 | O22: =+N22/16 -> 3968.1687 | P22: 17 | Q22: 16
B24: ZONA 7 | C24: MAR | D24: ABR | E24: MAY | F24: JUN | G24: JUL | H24: AGO | I24: SEP | J24: OCT | K24: NOV | L24: DIC | M24: TOTAL
B25: En Sitio: Toma de Lectura y Entrga de Factura | C25: 61305 | D25: 61407 | E25: 61509 | F25: 61612 | G25: 61715 | H25: 61817 | I25: 61921 | J25: 62024 | K25: 62127 | L25: 62230 | M25: =SUM(C25:L25) -> 617667 | N25: =+M25/10 -> 61766.7 | O25: =+N25/16 -> 3860.4187 | P25: 15 | Q25: 16
B28: TOTAL CONCEPTO | C28: MAR | D28: ABR | E28: MAY | F28: JUN | G28: JUL | H28: AGO | I28: SEP | J28: OCT | K28: NOV | L28: DIC | M28: TOTAL | P28: =SUM(P2:P27) -> 78.995109
B29: En Sitio: Toma de Lectura y Entrega de Factura | C29: =SUM(C6:C28) -> 299289 | D29: =SUM(D6:D28) -> 299791 | E29: =SUM(E6:E28) -> 300255 | F29: =SUM(F6:F28) -> 300760 | G29: =SUM(G6:G28) -> 301227 | H29: =SUM(H6:H28) -> 301732 | I29: =SUM(I6:I28) -> 302204 | J29: =SUM(J6:J28) -> 302712 | ... L29: =SUM(L6:L28) -> 303695 | M29: =SUM(C29:L29) -> 3014849
B31: CONCEPTO 2: TOMA DE LECTURA Y ENTREGA DE FACTURA EN ZONAS VIII Y IX
B32: ZONA 8 | C32: MAR | D32: ABR | E32: MAY | F32: JUN | G32: JUL | H32: AGO | I32: SEP | J32: OCT | K32: NOV | L32: DIC | M32: TOTAL
B33: En Sitio: Toma de Lectura y Entrga de Factura | C33: 13872 | D33: 13922 | E33: 13972 | F33: 14022 | G33: 14072 | H33: 14123 | I33: 14174 | J33: 14225 | K33: 14276 | L33: 14325 | M33: =SUM(C33:L33) -> 140983 | N33: =+M33/10 -> 14098.3 | O33: =+N33/16 -> 881.14375 | P33: 6
B35: ZONA 9 | C35: MAR | D35: ABR | E35: MAY | F35: JUN | G35: JUL | H35: AGO | I35: SEP | J35: OCT | K35: NOV | L35: DIC | M35: TOTAL
B36: En Sitio: Toma de Lectura y Entrga de Factura | C36: 20004 | D36: 20049 | E36: 20094 | F36: 20140 | G36: 20185 | H36: 20231 | I36: 20277 | J36: 20323 | K36: 20369 | L36: 20415 | M36: =SUM(C36:L36) -> 202087 | N36: =+M36/10 -> 20208.7 | O36: =+N36/16 -> 1263.0438 | P36: 6
B38: TOTAL CONCEPTO | C38: MAR | D38: ABR | E38: MAY | F38: JUN | G38: JUL | H38: AGO | I38: SEP | J38: OCT | K38: NOV | L38: DIC | M38: TOTAL
B39: En Sitio: Toma de Lectura y Entrega de Factura | C39: =+C36+C33 -> 33876 | D39: =+D36+D33 -> 33971 | E39: =+E36+E33 -> 34066 | F39: =+F36+F33 -> 34162 | G39: =+G36+G33 -> 34257 | H39: =+H36+H33 -> 34354 | I39: =+I36+I33 -> 34451 | J39: =+J36+J33 -> 34548 | ... L39: =+L36+L33 -> 34740 | M39: =SUM(C39:L39) -> 343070
B41: CONCEPTO 3: TOMA DE LECTURA Y ENTREGA DE FACTURA EN ZONA IX
B42: ZONA 10 | C42: MAR | D42: ABR | E42: MAY | F42: JUN | G42: JUL | H42: AGO | I42: SEP | J42: OCT | K42: NOV | L42: DIC | M42: TOTAL
B43: En Sitio: Toma de Lectura y Entrga de Factura | C43: 8242 | D43: 8258 | E43: 8274 | F43: 8290 | G43: 8306 | H43: 8323 | I43: 8339 | J43: 8355 | K43: 8371 | L43: 8387 | M43: =SUM(C43:L43) -> 83145 | N43: =+M43/10 -> 8314.5 | O43: =+N43/16 -> 519.65625 | P43: 6
B45: TOTAL CONCEPTO | C45: MAR | D45: ABR | E45: MAY | F45: JUN | G45: JUL | H45: AGO | I45: SEP | J45: OCT | K45: NOV | L45: DIC | M45: TOTAL
B46: En Sitio: Toma de Lectura y Entrega de Factura | C46: =+C43 -> 8242 | D46: =+D43 -> 8258 | E46: =+E43 -> 8274 | F46: =+F43 -> 8290 | G46: =+G43 -> 8306 | H46: =+H43 -> 8323 | I46: =+I43 -> 8339 | J46: =+J43 -> 8355 | ... L46: =+L43 -> 8387 | M46: =SUM(C46:L46) -> 83145

Sheet REQUERIMIENTOS
A1: COMISIÓN ESTATAL DE SERVICIOS PÚBLICOS DE MEXICALI
A2: "SERVICIO DE TOMA DE LECTURA Y ENTREGA DE FACTURAS PARA LA COMISIÓN ESTATAL DE SERVICIOS PÚBLICOS DE MEXICALI"
A3: REQUERIMIENTOS PARA LOS MESES DE MARZO A DICIEMBRE DE 2020
A5: CONCEPTO 1: TOMA DE LECTURA Y ENTREGA DE FACTURA EN ZONA I, II, III, IV, V, VI Y VII
A6: CONCEPTO | B6: DESCRIPCIÓN | C6: UNIDAD DE MEDIDA | D6: CANTIDAD
A7: 1.1 | B7: EN SITIO: TOMA DE LECTURA Y ENTREGA DE FACTURA | C7: CUENTA | D7: =+'PROPUESTA TECNICA'!E9 -> 3014849
A9: REQUERIMIENTOS QUE DEBERA CUMPLIR LA EMPRESA AL MOMENTO DE PRESENTAR SU PROPUESTA DE CONTRATO
A10: 1.- Deberá contar con una cantidad mínima de 79 operadores de campo.
A11: 2.- Deberá contar con 7 supervisores.
A12: 3.- Deberá contar con 7 unidad de transporte, debiendo acreditar que son de su propiedad mediante copia de factura y/o tarjeta de circulación.
A15: CONCEPTO 2: TOMA DE LECTURA Y ENTREGA DE FACTURA EN ZONA VIII Y IX
A16: CONCEPTO | B16: DESCRIPCIÓN | C16: UNIDAD DE MEDIDA | D16: CANTIDAD
A17: 2.1 | B17: EN SITIO: TOMA DE LECTURA Y ENTREGA DE FACTURA | C17: CUENTA | D17: =+PROYECCION!M39 -> 343070
A19: REQUERIMIENTOS QUE DEBERA CUMPLIR LA EMPRESA AL MOMENTO DE PRESENTAR SU PROPUESTA DE CONTRATO
A20: 1.- Deberá contar con una cantidad mínima de 12 operadores de campo.
A21: 2.- Deberá contar con 2 supervisores.
A22: 3.- Deberá contar con 7 unidad de transporte, debiendo acreditar que son de su propiedad mediante copia de factura y/o tarjeta de circulación.
A24: CONCEPTO 3: TOMA DE LECTURA Y ENTREGA DE FACTURA EN ZONA X
A25: CONCEPTO | B25: DESCRIPCIÓN | C25: UNIDAD DE MEDIDA | D25: CANTIDAD
A26: 3.1 | B26: EN SITIO: TOMA DE LECTURA Y ENTREGA DE FACTURA | C26: CUENTA | D26: =+PROYECCION!M46 -> 83145
A28: REQUERIMIENTOS QUE DEBERA CUMPLIR LA EMPRESA AL MOMENTO DE PRESENTAR SU PROPUESTA DE CONTRATO
A29: 1.- Deberá contar con una cantidad mínima de 6 operadores de campo.
A30: 2.- Deberá contar con 1 supervisor.
A31: 3.- Deberá contar con 2 unidad de transporte, debiendo acreditar que son de su propiedad mediante copia de factura y/o tarjeta de circulación.

Sheet PROGRAMA
A1: COMISIÓN ESTATAL DE SERVICIOS PÚBLICOS DE MEXICALI
A2: "SERVICIO DE TOMA DE LECTURA Y ENTREGA DE FACTURAS PARA LA COMISIÓN ESTATAL DE SERVICIOS PÚBLICOS DE MEXICALI"
B3: REQUERIMIENTOS PARA LOS MESES DE MARZO A DICIEMBRE DE 2020
B6: CONCEPTO 1: TOMA DE LECTURA Y ENTREGA DE FACTURA EN ZONA I, II, III, IV, V, VI Y VII
C7: MAR | D7: ABR | E7: MAY | F7: JUN | G7: JUL | H7: AGO | I7: SEP | J7: OCT | K7: NOV | L7: DIC | M7: TOTAL
B8: En Sitio: Toma de Lectura y Entrga de Factura | C8: =+PROYECCION!C29 -> 299289 | D8: =+PROYECCION!D29 -> 299791 | E8: =+PROYECCION!E29 -> 300255 | F8: =+PROYECCION!F29 -> 300760 | G8: =+PROYECCION!G29 -> 301227 | H8: =+PROYECCION!H29 -> 301732 | I8: =+PROYECCION!I29 -> 302204 | J8: =+PROYECCION!J29 -> 302712 | ... L8: =+PROYECCION!L29 -> 303695 | M8: =SUM(C8:L8) -> 3014849
B10: CONCEPTO 2: TOMA DE LECTURA Y ENTREGA DE FACTURA EN ZONA VIII Y IX
C11: MAR | D11: ABR | E11: MAY | F11: JUN | G11: JUL | H11: AGO | I11: SEP | J11: OCT | K11: NOV | L11: DIC | M11: TOTAL
B12: En Sitio: Toma de Lectura y Entrga de Factura | C12: =+PROYECCION!C39 -> 33876 | D12: =+PROYECCION!D39 -> 33971 | E12: =+PROYECCION!E39 -> 34066 | F12: =+PROYECCION!F39 -> 34162 | G12: =+PROYECCION!G39 -> 34257 | H12: =+PROYECCION!H39 -> 34354 | I12: =+PROYECCION!I39 -> 34451 | J12: =+PROYECCION!J39 -> 34548 | ... L12: =+PROYECCION!L39 -> 34740 | M12: =SUM(C12:L12) -> 343070
B14: CONCEPTO 3: TOMA DE LECTURA Y ENTREGA DE FACTURA EN ZONA X
C15: MAR | D15: ABR | E15: MAY | F15: JUN | G15: JUL | H15: AGO | I15: SEP | J15: OCT | K15: NOV | L15: DIC | M15: TOTAL
B16: En Sitio: Toma de Lectura y Entrga de Factura | C16: 8241.862 | D16: 8257.9279 | E16: 8274.0251 | F16: 8290.1537 | G16: 8306.3138 | H16: 8322.5053 | I16: 8338.7284 | J16: 8354.9832 | K16: 8371.2696 | L16: 8387.5878 | M16: =SUM(C16:L16) -> 83145.357
